BEGIN:VCALENDAR
VERSION:2.0
PRODID:-//HISA - ECPv5.4.0//NONSGML v1.0//EN
CALSCALE:GREGORIAN
METHOD:PUBLISH
X-WR-CALNAME:HISA
X-ORIGINAL-URL:https://www.hisa.org.au
X-WR-CALDESC:Events for HISA
BEGIN:VTIMEZONE
TZID:Australia/Melbourne
BEGIN:STANDARD
TZOFFSETFROM:+1100
TZOFFSETTO:+1000
TZNAME:AEST
DTSTART:20210403T160000
END:STANDARD
BEGIN:DAYLIGHT
TZOFFSETFROM:+1000
TZOFFSETTO:+1100
TZNAME:AEDT
DTSTART:20211002T160000
END:DAYLIGHT
END:VTIMEZONE
BEGIN:VEVENT
DTSTART;VALUE=DATE:20210821
DTEND;VALUE=DATE:20210826
DTSTAMP:20210301T175035
CREATED:20170823T024418Z
LAST-MODIFIED:20180208T213639Z
UID:8749-1629504000-1629935999@www.hisa.org.au
SUMMARY:18th World Congress on Medical and Health Informatics (MedInfo 2021)
DESCRIPTION:18th World Congress on Medical and Health Informatics (MedInfo 2021) \n21-25 August 2021\nInternational Convention Centre Sydney\nMedinfo provides the world’s leading scientists\, medical practitioners\, entrepreneurs\, educators as well as students a high quality platform for sharing of the world’s current research and application in these fields.
URL:https://www.hisa.org.au/hisa_event/medinfo-2021/
LOCATION:International Convention Centre Sydney\, 14 Darling Drive\, Sydney\, NSW\, 2009\, Australia
CATEGORIES:CHIA,Non-HISA Event
ATTACH;FMTTYPE=image/png:https://www.hisa.org.au/wp-content/uploads/2017/08/Event-medinfo.png
ORGANIZER;CN="HISA":MAILTO:hisa@hisa.org.au
END:VEVENT
BEGIN:VEVENT
DTSTART;TZID=Australia/Melbourne:20210823T080000
DTEND;TZID=Australia/Melbourne:20210825T170000
DTSTAMP:20210301T175035
CREATED:20170823T021837Z
LAST-MODIFIED:20180208T213638Z
UID:8745-1629705600-1629910800@www.hisa.org.au
SUMMARY:HIC 2021
DESCRIPTION:Health Informatics Conference \n23-25 August 2021\nInternational Convention Centre Sydney \nSave the date! Australia’s premier digital health\, health informatics and e-health conference & expo bringing together health’s most forward thinking innovators. This is an event that should not be missed and provides leading edge information for the Australian health community.
URL:https://www.hisa.org.au/hisa_event/hic-2021/
LOCATION:International Convention Centre Sydney\, 14 Darling Drive\, Sydney\, NSW\, 2009\, Australia
CATEGORIES:CHIA,Conference
ATTACH;FMTTYPE=image/png:https://www.hisa.org.au/wp-content/uploads/2017/08/eventHIC.png
ORGANIZER;CN="HISA":MAILTO:hisa@hisa.org.au
END:VEVENT
END:VCALENDAR